
BEGIN:VCALENDAR
VERSION:2.0
PRODID:-//Newton Watercolor Society - ECPv6.15.20//NONSGML v1.0//EN
CALSCALE:GREGORIAN
METHOD:PUBLISH
X-ORIGINAL-URL:https://newtonwatercolorsociety.org
X-WR-CALDESC:Events for Newton Watercolor Society
REFRESH-INTERVAL;VALUE=DURATION:PT1H
X-Robots-Tag:noindex
X-PUBLISHED-TTL:PT1H
BEGIN:VTIMEZONE
TZID:America/New_York
BEGIN:DAYLIGHT
TZOFFSETFROM:-0500
TZOFFSETTO:-0400
TZNAME:EDT
DTSTART:20250309T070000
END:DAYLIGHT
BEGIN:STANDARD
TZOFFSETFROM:-0400
TZOFFSETTO:-0500
TZNAME:EST
DTSTART:20251102T060000
END:STANDARD
BEGIN:DAYLIGHT
TZOFFSETFROM:-0500
TZOFFSETTO:-0400
TZNAME:EDT
DTSTART:20260308T070000
END:DAYLIGHT
BEGIN:STANDARD
TZOFFSETFROM:-0400
TZOFFSETTO:-0500
TZNAME:EST
DTSTART:20261101T060000
END:STANDARD
BEGIN:DAYLIGHT
TZOFFSETFROM:-0500
TZOFFSETTO:-0400
TZNAME:EDT
DTSTART:20270314T070000
END:DAYLIGHT
BEGIN:STANDARD
TZOFFSETFROM:-0400
TZOFFSETTO:-0500
TZNAME:EST
DTSTART:20271107T060000
END:STANDARD
END:VTIMEZONE
BEGIN:VEVENT
DTSTART;VALUE=DATE:20260131
DTEND;VALUE=DATE:20260510
DTSTAMP:20260423T183301
CREATED:20230205T235208Z
LAST-MODIFIED:20260127T222629Z
UID:2975-1769817600-1778371199@newtonwatercolorsociety.org
SUMMARY:Life Drawing and Painting
DESCRIPTION:The Live Studio Classes with Model Session is led by Daniel Panero Bertucci on Saturday \nStarts from 1:30 – 4:00pm  \nHere are the Saturday dates from January to May: \n\nSaturday January 31\nSaturday February 21 and 28\nSaturday March 21 and 28\nSaturday April 18\nSaturday May 9\n\nDonation for each Session:  $20 \nEach Saturday is an independent session — this is not a class and does not build directly on the previous session(s). You can come to none\, one or each session. We are offering them to our members to practice drawing/painting the human figure from a variety of angles. \nUsually\, we start with some short warm-up sketching to get a feel for the proportions.  It’s good to bring some not-important paper like the backside of a not-so-good painting. Everyone brings their own drawing and painting materials. It is good to arrive a few minutes early to set up your painting station and so that we can start on time. \nAfter a few short poses the model holds longer poses\, 15-20 minutes\, so everyone can work on more details or shading in those longer poses or does a quick sketch in pencil on watercolor paper and add watercolor. It is up to each member either to draw the whole time\, to draw and later paint or paint the whole time – you are in charge of your time and painting. \nThere will be beverages and snacks offered in the breaks.  Large tables are available to share with another artist\, but you can also bring your own easel as the room is large. The room is well heated and there are plenty of parking spots available. \n 
URL:https://newtonwatercolorsociety.org/event/bi-weekly-in-person-life-drawing-sessions/
CATEGORIES:Share and Paint,Social
ATTACH;FMTTYPE=image/jpeg:https://newtonwatercolorsociety.org/wp-content/uploads/2020/02/DSC04127.jpg
END:VEVENT
END:VCALENDAR